BEGIN:VCALENDAR
VERSION:2.0
PRODID:-//Sharon Tennis Club - ECPv6.15.17.1//NONSGML v1.0//EN
CALSCALE:GREGORIAN
METHOD:PUBLISH
X-ORIGINAL-URL:https://sharontennisclub.org
X-WR-CALDESC:Events for Sharon Tennis Club
REFRESH-INTERVAL;VALUE=DURATION:PT1H
X-Robots-Tag:noindex
X-PUBLISHED-TTL:PT1H
BEGIN:VTIMEZONE
TZID:America/New_York
BEGIN:DAYLIGHT
TZOFFSETFROM:-0500
TZOFFSETTO:-0400
TZNAME:EDT
DTSTART:20230312T070000
END:DAYLIGHT
BEGIN:STANDARD
TZOFFSETFROM:-0400
TZOFFSETTO:-0500
TZNAME:EST
DTSTART:20231105T060000
END:STANDARD
BEGIN:DAYLIGHT
TZOFFSETFROM:-0500
TZOFFSETTO:-0400
TZNAME:EDT
DTSTART:20240310T070000
END:DAYLIGHT
BEGIN:STANDARD
TZOFFSETFROM:-0400
TZOFFSETTO:-0500
TZNAME:EST
DTSTART:20241103T060000
END:STANDARD
BEGIN:DAYLIGHT
TZOFFSETFROM:-0500
TZOFFSETTO:-0400
TZNAME:EDT
DTSTART:20250309T070000
END:DAYLIGHT
BEGIN:STANDARD
TZOFFSETFROM:-0400
TZOFFSETTO:-0500
TZNAME:EST
DTSTART:20251102T060000
END:STANDARD
END:VTIMEZONE
BEGIN:VEVENT
DTSTART;TZID=America/New_York:20241002T163000
DTEND;TZID=America/New_York:20241002T183000
DTSTAMP:20260424T112231
CREATED:20240912T001807Z
LAST-MODIFIED:20241001T011124Z
UID:2827-1727886600-1727893800@sharontennisclub.org
SUMMARY:Mixed Doubles
DESCRIPTION:
URL:https://sharontennisclub.org/calendar/mixed-doubles-2/
LOCATION:STC
END:VEVENT
BEGIN:VEVENT
DTSTART;TZID=America/New_York:20241006T120000
DTEND;TZID=America/New_York:20241006T150000
DTSTAMP:20260424T112231
CREATED:20240920T171020Z
LAST-MODIFIED:20240929T142150Z
UID:2855-1728216000-1728226800@sharontennisclub.org
SUMMARY:Club BBQ
DESCRIPTION:Join us for the Annual Club BBQ.  Hamburgers\, hot dogs\, and refreshments provided.  Also pot-luck.  Bring a side dish\, salad\, or desert if you wish.
URL:https://sharontennisclub.org/calendar/club-bbq/
END:VEVENT
BEGIN:VEVENT
DTSTART;TZID=America/New_York:20241007T163000
DTEND;TZID=America/New_York:20241007T183000
DTSTAMP:20260424T112231
CREATED:20240911T235903Z
LAST-MODIFIED:20240917T001517Z
UID:2816-1728318600-1728325800@sharontennisclub.org
SUMMARY:Mixed Doubles
DESCRIPTION:
URL:https://sharontennisclub.org/calendar/mixed-doubles-3/
LOCATION:STC
END:VEVENT
BEGIN:VEVENT
DTSTART;TZID=America/New_York:20241009T163000
DTEND;TZID=America/New_York:20241009T183000
DTSTAMP:20260424T112231
CREATED:20240912T001910Z
LAST-MODIFIED:20241008T111018Z
UID:2829-1728491400-1728498600@sharontennisclub.org
SUMMARY:Mixed Doubles
DESCRIPTION:
URL:https://sharontennisclub.org/calendar/mixed-doubles-5/
LOCATION:STC
END:VEVENT
BEGIN:VEVENT
DTSTART;TZID=America/New_York:20241014T163000
DTEND;TZID=America/New_York:20241014T183000
DTSTAMP:20260424T112231
CREATED:20240911T235942Z
LAST-MODIFIED:20240917T001730Z
UID:2818-1728923400-1728930600@sharontennisclub.org
SUMMARY:Mixed Doubles
DESCRIPTION:
URL:https://sharontennisclub.org/calendar/mixed-doubles-4/
LOCATION:STC
END:VEVENT
BEGIN:VEVENT
DTSTART;TZID=America/New_York:20241016T163000
DTEND;TZID=America/New_York:20241016T183000
DTSTAMP:20260424T112231
CREATED:20240912T001942Z
LAST-MODIFIED:20240912T002642Z
UID:2831-1729096200-1729103400@sharontennisclub.org
SUMMARY:Mixed Doubles
DESCRIPTION:
URL:https://sharontennisclub.org/calendar/mixed-doubles-7/
LOCATION:STC
END:VEVENT
BEGIN:VEVENT
DTSTART;TZID=America/New_York:20241021T163000
DTEND;TZID=America/New_York:20241021T183000
DTSTAMP:20260424T112231
CREATED:20241016T233114Z
LAST-MODIFIED:20241019T233511Z
UID:2916-1729528200-1729535400@sharontennisclub.org
SUMMARY:Mixed Doubles
DESCRIPTION:
URL:https://sharontennisclub.org/calendar/mixed-doubles-8/
LOCATION:STC
END:VEVENT
BEGIN:VEVENT
DTSTART;TZID=America/New_York:20241023T163000
DTEND;TZID=America/New_York:20241023T180000
DTSTAMP:20260424T112231
CREATED:20241016T233230Z
LAST-MODIFIED:20241016T233230Z
UID:2919-1729701000-1729706400@sharontennisclub.org
SUMMARY:Mixed Doubles
DESCRIPTION:
URL:https://sharontennisclub.org/calendar/mixed-doubles-9/
LOCATION:STC
END:VEVENT
BEGIN:VEVENT
DTSTART;TZID=America/New_York:20241028T163000
DTEND;TZID=America/New_York:20241028T180000
DTSTAMP:20260424T112231
CREATED:20241016T233326Z
LAST-MODIFIED:20241016T233326Z
UID:2921-1730133000-1730138400@sharontennisclub.org
SUMMARY:Mixed Doubles
DESCRIPTION:
URL:https://sharontennisclub.org/calendar/mixed-doubles-10/
LOCATION:STC
END:VEVENT
BEGIN:VEVENT
DTSTART;TZID=America/New_York:20241030T163000
DTEND;TZID=America/New_York:20241030T180000
DTSTAMP:20260424T112231
CREATED:20241016T233404Z
LAST-MODIFIED:20241016T233404Z
UID:2923-1730305800-1730311200@sharontennisclub.org
SUMMARY:Mixed Doubles
DESCRIPTION:
URL:https://sharontennisclub.org/calendar/mixed-doubles-11/
LOCATION:STC
END:VEVENT
END:VCALENDAR