BEGIN:VCALENDAR
VERSION:2.0
PRODID:-//Sharon Tennis Club - ECPv6.15.17.1//NONSGML v1.0//EN
CALSCALE:GREGORIAN
METHOD:PUBLISH
X-ORIGINAL-URL:https://sharontennisclub.org
X-WR-CALDESC:Events for Sharon Tennis Club
REFRESH-INTERVAL;VALUE=DURATION:PT1H
X-Robots-Tag:noindex
X-PUBLISHED-TTL:PT1H
BEGIN:VTIMEZONE
TZID:America/New_York
BEGIN:DAYLIGHT
TZOFFSETFROM:-0500
TZOFFSETTO:-0400
TZNAME:EDT
DTSTART:20230312T070000
END:DAYLIGHT
BEGIN:STANDARD
TZOFFSETFROM:-0400
TZOFFSETTO:-0500
TZNAME:EST
DTSTART:20231105T060000
END:STANDARD
BEGIN:DAYLIGHT
TZOFFSETFROM:-0500
TZOFFSETTO:-0400
TZNAME:EDT
DTSTART:20240310T070000
END:DAYLIGHT
BEGIN:STANDARD
TZOFFSETFROM:-0400
TZOFFSETTO:-0500
TZNAME:EST
DTSTART:20241103T060000
END:STANDARD
BEGIN:DAYLIGHT
TZOFFSETFROM:-0500
TZOFFSETTO:-0400
TZNAME:EDT
DTSTART:20250309T070000
END:DAYLIGHT
BEGIN:STANDARD
TZOFFSETFROM:-0400
TZOFFSETTO:-0500
TZNAME:EST
DTSTART:20251102T060000
END:STANDARD
END:VTIMEZONE
BEGIN:VEVENT
DTSTART;TZID=America/New_York:20240805T170000
DTEND;TZID=America/New_York:20240805T190000
DTSTAMP:20260424T124953
CREATED:20240605T162316Z
LAST-MODIFIED:20240827T123731Z
UID:2413-1722877200-1722884400@sharontennisclub.org
SUMMARY:Mixed Doubles Monday
DESCRIPTION:
URL:https://sharontennisclub.org/calendar/mixed-doubles-monday-13/
LOCATION:STC
END:VEVENT
BEGIN:VEVENT
DTSTART;TZID=America/New_York:20240807T170000
DTEND;TZID=America/New_York:20240807T190000
DTSTAMP:20260424T124953
CREATED:20240605T161931Z
LAST-MODIFIED:20240827T123634Z
UID:2410-1723050000-1723057200@sharontennisclub.org
SUMMARY:Mixed Doubles
DESCRIPTION:
URL:https://sharontennisclub.org/calendar/womens-doubles-13/
LOCATION:STC
END:VEVENT
BEGIN:VEVENT
DTSTART;TZID=America/New_York:20240805T170000
DTEND;TZID=America/New_York:20240805T190000
DTSTAMP:20260424T124953
CREATED:20240605T162316Z
LAST-MODIFIED:20240827T123731Z
UID:2413-1722877200-1722884400@sharontennisclub.org
SUMMARY:Mixed Doubles Monday
DESCRIPTION:
URL:https://sharontennisclub.org/calendar/mixed-doubles-monday-13/
LOCATION:STC
END:VEVENT
BEGIN:VEVENT
DTSTART;TZID=America/New_York:20240807T170000
DTEND;TZID=America/New_York:20240807T190000
DTSTAMP:20260424T124953
CREATED:20240605T161931Z
LAST-MODIFIED:20240827T123634Z
UID:2410-1723050000-1723057200@sharontennisclub.org
SUMMARY:Mixed Doubles
DESCRIPTION:
URL:https://sharontennisclub.org/calendar/womens-doubles-13/
LOCATION:STC
END:VEVENT
BEGIN:VEVENT
DTSTART;TZID=America/New_York:20240805T170000
DTEND;TZID=America/New_York:20240805T190000
DTSTAMP:20260424T124953
CREATED:20240605T162316Z
LAST-MODIFIED:20240827T123731Z
UID:2413-1722877200-1722884400@sharontennisclub.org
SUMMARY:Mixed Doubles Monday
DESCRIPTION:
URL:https://sharontennisclub.org/calendar/mixed-doubles-monday-13/
LOCATION:STC
END:VEVENT
BEGIN:VEVENT
DTSTART;TZID=America/New_York:20240807T170000
DTEND;TZID=America/New_York:20240807T190000
DTSTAMP:20260424T124953
CREATED:20240605T161931Z
LAST-MODIFIED:20240827T123634Z
UID:2410-1723050000-1723057200@sharontennisclub.org
SUMMARY:Mixed Doubles
DESCRIPTION:
URL:https://sharontennisclub.org/calendar/womens-doubles-13/
LOCATION:STC
END:VEVENT
BEGIN:VEVENT
DTSTART;TZID=America/New_York:20240923T163000
DTEND;TZID=America/New_York:20240923T183000
DTSTAMP:20260424T124953
CREATED:20240912T000719Z
LAST-MODIFIED:20240912T025204Z
UID:2823-1727109000-1727116200@sharontennisclub.org
SUMMARY:Mixed Doubles
DESCRIPTION:
URL:https://sharontennisclub.org/calendar/mixed-doubles-6/
LOCATION:STC
END:VEVENT
BEGIN:VEVENT
DTSTART;TZID=America/New_York:20240925T163000
DTEND;TZID=America/New_York:20240925T183000
DTSTAMP:20260424T124953
CREATED:20240912T001726Z
LAST-MODIFIED:20240917T000941Z
UID:2825-1727281800-1727289000@sharontennisclub.org
SUMMARY:Mixed Doubles
DESCRIPTION:
URL:https://sharontennisclub.org/calendar/mixed-doubles/
LOCATION:STC
END:VEVENT
BEGIN:VEVENT
DTSTART;TZID=America/New_York:20240928T110000
DTEND;TZID=America/New_York:20240928T140000
DTSTAMP:20260424T124953
CREATED:20240829T005016Z
LAST-MODIFIED:20240905T122255Z
UID:2714-1727521200-1727532000@sharontennisclub.org
SUMMARY:Member-Guest Tournament
DESCRIPTION:Grab your favorite partner and join us Saturday\, September 28 at Sharon Tennis Club for our Member Guest Tournament.  Each coed team will consist of an existing club player and a non-member battling on the beautiful red clay.  “A” and “B” divisions within the 1 day event will keep the competition even.  Expect play to take place from 11:00am until 2:00pm for the champions team to be crowned.  Lots of fun tennis with light refreshments for all participants.  Cost is $10 for each team entry (free for guest) and look forward to the tournament.  Sunday\, September 29th will be the rain date if nature interferes.  Small prizes for the top teams of the divisions with fun for all. \nLast year’s event was remarkable- check out the winners!:
URL:https://sharontennisclub.org/calendar/member-guest-tournament/
LOCATION:STC
ORGANIZER;CN="Victor 'Ace' Brown":MAILTO:moranbrownvic@comcast.net
END:VEVENT
BEGIN:VEVENT
DTSTART;TZID=America/New_York:20240929T140000
DTEND;TZID=America/New_York:20240929T160000
DTSTAMP:20260424T124953
CREATED:20240917T200714Z
LAST-MODIFIED:20240917T200714Z
UID:2847-1727618400-1727625600@sharontennisclub.org
SUMMARY:SPEC Tennis
DESCRIPTION:SPEC is a fun alternative to traditional tennis\, played on a mini-court.  Come on down and try it out.  Equipment and instruction provided.  Register here or Contact Chas Luca for details.
URL:https://sharontennisclub.org/calendar/spec-tennis/
END:VEVENT
BEGIN:VEVENT
DTSTART;TZID=America/New_York:20240930T163000
DTEND;TZID=America/New_York:20240930T183000
DTSTAMP:20260424T124953
CREATED:20240912T000547Z
LAST-MODIFIED:20240928T112040Z
UID:2821-1727713800-1727721000@sharontennisclub.org
SUMMARY:Mixed Doubles
DESCRIPTION:
URL:https://sharontennisclub.org/calendar/mixed-doubles-2-2/
LOCATION:STC
END:VEVENT
END:VCALENDAR