BEGIN:VCALENDAR
VERSION:2.0
PRODID:-//Sharon Tennis Club - ECPv6.15.17.1//NONSGML v1.0//EN
CALSCALE:GREGORIAN
METHOD:PUBLISH
X-WR-CALNAME:Sharon Tennis Club
X-ORIGINAL-URL:https://sharontennisclub.org
X-WR-CALDESC:Events for Sharon Tennis Club
REFRESH-INTERVAL;VALUE=DURATION:PT1H
X-Robots-Tag:noindex
X-PUBLISHED-TTL:PT1H
BEGIN:VTIMEZONE
TZID:America/New_York
BEGIN:DAYLIGHT
TZOFFSETFROM:-0500
TZOFFSETTO:-0400
TZNAME:EDT
DTSTART:20230312T070000
END:DAYLIGHT
BEGIN:STANDARD
TZOFFSETFROM:-0400
TZOFFSETTO:-0500
TZNAME:EST
DTSTART:20231105T060000
END:STANDARD
BEGIN:DAYLIGHT
TZOFFSETFROM:-0500
TZOFFSETTO:-0400
TZNAME:EDT
DTSTART:20240310T070000
END:DAYLIGHT
BEGIN:STANDARD
TZOFFSETFROM:-0400
TZOFFSETTO:-0500
TZNAME:EST
DTSTART:20241103T060000
END:STANDARD
BEGIN:DAYLIGHT
TZOFFSETFROM:-0500
TZOFFSETTO:-0400
TZNAME:EDT
DTSTART:20250309T070000
END:DAYLIGHT
BEGIN:STANDARD
TZOFFSETFROM:-0400
TZOFFSETTO:-0500
TZNAME:EST
DTSTART:20251102T060000
END:STANDARD
END:VTIMEZONE
BEGIN:VEVENT
DTSTART;TZID=America/New_York:20240805T170000
DTEND;TZID=America/New_York:20240805T190000
DTSTAMP:20260423T201221
CREATED:20240605T162316Z
LAST-MODIFIED:20240827T123731Z
UID:2413-1722877200-1722884400@sharontennisclub.org
SUMMARY:Mixed Doubles Monday
DESCRIPTION:
URL:https://sharontennisclub.org/calendar/mixed-doubles-monday-13/
LOCATION:STC
END:VEVENT
BEGIN:VEVENT
DTSTART;TZID=America/New_York:20240818T080000
DTEND;TZID=America/New_York:20240818T133000
DTSTAMP:20260423T201221
CREATED:20240807T141738Z
LAST-MODIFIED:20240906T211723Z
UID:2639-1723968000-1723987800@sharontennisclub.org
SUMMARY:Mixed Doubles Tournament
DESCRIPTION:Registration by August 11.  Contact Scott Zenack.
URL:https://sharontennisclub.org/calendar/mixed-doubles-tournament-3/
END:VEVENT
BEGIN:VEVENT
DTSTART;TZID=America/New_York:20240817T080000
DTEND;TZID=America/New_York:20240817T180000
DTSTAMP:20260423T201221
CREATED:20240807T141657Z
LAST-MODIFIED:20240807T142120Z
UID:2637-1723881600-1723917600@sharontennisclub.org
SUMMARY:Mixed Doubles Tournament
DESCRIPTION:Registration by August 11.  Contact Scott Zenack.
URL:https://sharontennisclub.org/calendar/mixed-doubles-tournament-2/
END:VEVENT
BEGIN:VEVENT
DTSTART;TZID=America/New_York:20240807T170000
DTEND;TZID=America/New_York:20240807T190000
DTSTAMP:20260423T201221
CREATED:20240605T161931Z
LAST-MODIFIED:20240827T123634Z
UID:2410-1723050000-1723057200@sharontennisclub.org
SUMMARY:Mixed Doubles
DESCRIPTION:
URL:https://sharontennisclub.org/calendar/womens-doubles-13/
LOCATION:STC
END:VEVENT
BEGIN:VEVENT
DTSTART;TZID=America/New_York:20240805T170000
DTEND;TZID=America/New_York:20240805T190000
DTSTAMP:20260423T201221
CREATED:20240605T162316Z
LAST-MODIFIED:20240827T123731Z
UID:2413-1722877200-1722884400@sharontennisclub.org
SUMMARY:Mixed Doubles Monday
DESCRIPTION:
URL:https://sharontennisclub.org/calendar/mixed-doubles-monday-13/
LOCATION:STC
END:VEVENT
BEGIN:VEVENT
DTSTART;TZID=America/New_York:20240807T170000
DTEND;TZID=America/New_York:20240807T190000
DTSTAMP:20260423T201221
CREATED:20240605T161931Z
LAST-MODIFIED:20240827T123634Z
UID:2410-1723050000-1723057200@sharontennisclub.org
SUMMARY:Mixed Doubles
DESCRIPTION:
URL:https://sharontennisclub.org/calendar/womens-doubles-13/
LOCATION:STC
END:VEVENT
BEGIN:VEVENT
DTSTART;TZID=America/New_York:20240805T170000
DTEND;TZID=America/New_York:20240805T190000
DTSTAMP:20260423T201221
CREATED:20240605T162316Z
LAST-MODIFIED:20240827T123731Z
UID:2413-1722877200-1722884400@sharontennisclub.org
SUMMARY:Mixed Doubles Monday
DESCRIPTION:
URL:https://sharontennisclub.org/calendar/mixed-doubles-monday-13/
LOCATION:STC
END:VEVENT
BEGIN:VEVENT
DTSTART;TZID=America/New_York:20240805T080000
DTEND;TZID=America/New_York:20240805T170000
DTSTAMP:20260423T201221
CREATED:20240804T160411Z
LAST-MODIFIED:20240804T160412Z
UID:2605-1722844800-1722877200@sharontennisclub.org
SUMMARY:Mixed Doubles Monday
DESCRIPTION:
URL:https://sharontennisclub.org/calendar/mixed-doubles-monday-13-2/
LOCATION:STC
END:VEVENT
BEGIN:VEVENT
DTSTART;TZID=America/New_York:20240731T170000
DTEND;TZID=America/New_York:20240731T190000
DTSTAMP:20260423T201221
CREATED:20240528T225707Z
LAST-MODIFIED:20240716T172436Z
UID:2337-1722445200-1722452400@sharontennisclub.org
SUMMARY:Mixed Doubles
DESCRIPTION:
URL:https://sharontennisclub.org/calendar/womens-doubles-12/
LOCATION:STC
END:VEVENT
BEGIN:VEVENT
DTSTART;TZID=America/New_York:20240729T170000
DTEND;TZID=America/New_York:20240729T190000
DTSTAMP:20260423T201221
CREATED:20240528T225612Z
LAST-MODIFIED:20240528T225820Z
UID:2335-1722272400-1722279600@sharontennisclub.org
SUMMARY:Mixed Doubles Monday
DESCRIPTION:
URL:https://sharontennisclub.org/calendar/mixed-doubles-monday-12/
LOCATION:STC
END:VEVENT
BEGIN:VEVENT
DTSTART;TZID=America/New_York:20240724T170000
DTEND;TZID=America/New_York:20240724T190000
DTSTAMP:20260423T201221
CREATED:20240528T225457Z
LAST-MODIFIED:20240716T172506Z
UID:2333-1721840400-1721847600@sharontennisclub.org
SUMMARY:Mixed Doubles
DESCRIPTION:
URL:https://sharontennisclub.org/calendar/womens-doubles-11/
LOCATION:STC
END:VEVENT
BEGIN:VEVENT
DTSTART;TZID=America/New_York:20240722T170000
DTEND;TZID=America/New_York:20240722T190000
DTSTAMP:20260423T201221
CREATED:20240528T225338Z
LAST-MODIFIED:20240715T124141Z
UID:2331-1721667600-1721674800@sharontennisclub.org
SUMMARY:Mixed Doubles Monday
DESCRIPTION:
URL:https://sharontennisclub.org/calendar/mixed-doubles-monday-11/
LOCATION:STC
END:VEVENT
BEGIN:VEVENT
DTSTART;TZID=America/New_York:20240720T080000
DTEND;TZID=America/New_York:20240720T200000
DTSTAMP:20260423T201221
CREATED:20240712T112650Z
LAST-MODIFIED:20240712T113218Z
UID:2516-1721462400-1721505600@sharontennisclub.org
SUMMARY:Open Doubles Tournament
DESCRIPTION:
URL:https://sharontennisclub.org/calendar/open-doubles-tournament-2/
END:VEVENT
BEGIN:VEVENT
DTSTART;TZID=America/New_York:20240720T080000
DTEND;TZID=America/New_York:20240720T200000
DTSTAMP:20260423T201221
CREATED:20240712T112650Z
LAST-MODIFIED:20240712T113218Z
UID:2516-1721462400-1721505600@sharontennisclub.org
SUMMARY:Open Doubles Tournament
DESCRIPTION:
URL:https://sharontennisclub.org/calendar/open-doubles-tournament-2/
END:VEVENT
BEGIN:VEVENT
DTSTART;TZID=America/New_York:20240717T170000
DTEND;TZID=America/New_York:20240717T190000
DTSTAMP:20260423T201221
CREATED:20240502T000949Z
LAST-MODIFIED:20240716T172535Z
UID:2143-1721235600-1721242800@sharontennisclub.org
SUMMARY:Mixed Doubles
DESCRIPTION:
URL:https://sharontennisclub.org/calendar/womens-doubles-10/
LOCATION:STC
END:VEVENT
BEGIN:VEVENT
DTSTART;TZID=America/New_York:20240715T170000
DTEND;TZID=America/New_York:20240715T190000
DTSTAMP:20260423T201221
CREATED:20240502T000850Z
LAST-MODIFIED:20240528T230038Z
UID:2141-1721062800-1721070000@sharontennisclub.org
SUMMARY:Mixed Doubles Monday
DESCRIPTION:
URL:https://sharontennisclub.org/calendar/mixed-doubles-monday-10/
LOCATION:STC
END:VEVENT
BEGIN:VEVENT
DTSTART;TZID=America/New_York:20240710T170000
DTEND;TZID=America/New_York:20240710T190000
DTSTAMP:20260423T201221
CREATED:20240502T000627Z
LAST-MODIFIED:20240528T230101Z
UID:2139-1720630800-1720638000@sharontennisclub.org
SUMMARY:Women's Doubles
DESCRIPTION:
URL:https://sharontennisclub.org/calendar/womens-doubles-9/
LOCATION:STC
END:VEVENT
BEGIN:VEVENT
DTSTART;TZID=America/New_York:20240708T170000
DTEND;TZID=America/New_York:20240708T190000
DTSTAMP:20260423T201221
CREATED:20240502T000524Z
LAST-MODIFIED:20240715T124057Z
UID:2137-1720458000-1720465200@sharontennisclub.org
SUMMARY:Mixed Doubles Monday
DESCRIPTION:
URL:https://sharontennisclub.org/calendar/mixed-doubles-monday-9/
LOCATION:STC
END:VEVENT
BEGIN:VEVENT
DTSTART;TZID=America/New_York:20240703T080000
DTEND;TZID=America/New_York:20240703T170000
DTSTAMP:20260423T201221
CREATED:20240619T163635Z
LAST-MODIFIED:20240619T163635Z
UID:2465-1719993600-1720026000@sharontennisclub.org
SUMMARY:Women's Doubles
DESCRIPTION:
URL:https://sharontennisclub.org/calendar/womens-doubles-14/
LOCATION:STC
END:VEVENT
BEGIN:VEVENT
DTSTART;TZID=America/New_York:20240701T170000
DTEND;TZID=America/New_York:20240701T190000
DTSTAMP:20260423T201221
CREATED:20240619T163457Z
LAST-MODIFIED:20240619T163710Z
UID:2463-1719853200-1719860400@sharontennisclub.org
SUMMARY:Mixed Doubles Monday
DESCRIPTION:
URL:https://sharontennisclub.org/calendar/mixed-doubles-monday-14/
LOCATION:STC
END:VEVENT
BEGIN:VEVENT
DTSTART;TZID=America/New_York:20240626T170000
DTEND;TZID=America/New_York:20240626T190000
DTSTAMP:20260423T201221
CREATED:20240502T000341Z
LAST-MODIFIED:20240528T230150Z
UID:2135-1719421200-1719428400@sharontennisclub.org
SUMMARY:Women's Doubles
DESCRIPTION:
URL:https://sharontennisclub.org/calendar/womens-doubles-8/
LOCATION:STC
END:VEVENT
BEGIN:VEVENT
DTSTART;TZID=America/New_York:20240624T170000
DTEND;TZID=America/New_York:20240624T190000
DTSTAMP:20260423T201221
CREATED:20240502T000223Z
LAST-MODIFIED:20240528T230223Z
UID:2133-1719248400-1719255600@sharontennisclub.org
SUMMARY:Mixed Doubles Monday
DESCRIPTION:
URL:https://sharontennisclub.org/calendar/mixed-doubles-monday-8/
LOCATION:STC
END:VEVENT
BEGIN:VEVENT
DTSTART;TZID=America/New_York:20240623T150000
DTEND;TZID=America/New_York:20240623T170000
DTSTAMP:20260423T201221
CREATED:20240619T135443Z
LAST-MODIFIED:20240619T135855Z
UID:2460-1719154800-1719162000@sharontennisclub.org
SUMMARY:SPEC Tennis Fundraiser
DESCRIPTION:SPEC tennis is a fun alternative to regular tennis. Played on a half-sized court with low-pressure tennis balls\, SPEC is easy for tennis players to pick up and a blast to play. We are supporting a great cause: the TriTown (Sharon\, Canton\, Stoughton+) PMC Kids Ride (supporting Dana Farber).  Non-member guests will pay a $5 guest fee to the club and make a minimum $5 donation to the Kids Ride. Members are encouraged to attend\, free of charge of course\, but we request that you also make a $5 donation to the Kids Ride. Equipment and instruction will be provided. \nRegister using this link: https://www.meetup.com/newton-tennis-meetup-group/
URL:https://sharontennisclub.org/calendar/spec-tennis-fundraiser/
END:VEVENT
BEGIN:VEVENT
DTSTART;TZID=America/New_York:20240619T170000
DTEND;TZID=America/New_York:20240619T190000
DTSTAMP:20260423T201221
CREATED:20240502T000106Z
LAST-MODIFIED:20240528T230248Z
UID:2131-1718816400-1718823600@sharontennisclub.org
SUMMARY:Women's Doubles
DESCRIPTION:
URL:https://sharontennisclub.org/calendar/womens-doubles-7/
LOCATION:STC
END:VEVENT
BEGIN:VEVENT
DTSTART;TZID=America/New_York:20240617T170000
DTEND;TZID=America/New_York:20240617T190000
DTSTAMP:20260423T201221
CREATED:20240502T000003Z
LAST-MODIFIED:20240614T190157Z
UID:2129-1718643600-1718650800@sharontennisclub.org
SUMMARY:Mixed Doubles Monday
DESCRIPTION:
URL:https://sharontennisclub.org/calendar/mixed-doubles-monday-7/
LOCATION:STC
END:VEVENT
BEGIN:VEVENT
DTSTART;TZID=America/New_York:20240612T170000
DTEND;TZID=America/New_York:20240612T190000
DTSTAMP:20260423T201221
CREATED:20240426T214819Z
LAST-MODIFIED:20240528T230325Z
UID:2088-1718211600-1718218800@sharontennisclub.org
SUMMARY:Women's Doubles
DESCRIPTION:
URL:https://sharontennisclub.org/calendar/womens-doubles-6/
LOCATION:STC
END:VEVENT
BEGIN:VEVENT
DTSTART;TZID=America/New_York:20240610T170000
DTEND;TZID=America/New_York:20240610T190000
DTSTAMP:20260423T201221
CREATED:20240426T214707Z
LAST-MODIFIED:20240528T230429Z
UID:2086-1718038800-1718046000@sharontennisclub.org
SUMMARY:Mixed Doubles Monday
DESCRIPTION:
URL:https://sharontennisclub.org/calendar/mixed-doubles-monday-6/
LOCATION:STC
END:VEVENT
BEGIN:VEVENT
DTSTART;TZID=America/New_York:20240605T170000
DTEND;TZID=America/New_York:20240605T190000
DTSTAMP:20260423T201221
CREATED:20240426T214558Z
LAST-MODIFIED:20240528T230511Z
UID:2084-1717606800-1717614000@sharontennisclub.org
SUMMARY:Women's Doubles
DESCRIPTION:
URL:https://sharontennisclub.org/calendar/womens-doubles-5/
LOCATION:STC
END:VEVENT
BEGIN:VEVENT
DTSTART;TZID=America/New_York:20240603T170000
DTEND;TZID=America/New_York:20240603T190000
DTSTAMP:20260423T201221
CREATED:20240423T102016Z
LAST-MODIFIED:20240424T105314Z
UID:2027-1717434000-1717441200@sharontennisclub.org
SUMMARY:Mixed Doubles Monday
DESCRIPTION:
URL:https://sharontennisclub.org/calendar/mixed-doubles-monday-5/
LOCATION:STC
END:VEVENT
BEGIN:VEVENT
DTSTART;TZID=America/New_York:20240601T110000
DTEND;TZID=America/New_York:20240601T140000
DTSTAMP:20260423T201221
CREATED:20240424T013608Z
LAST-MODIFIED:20240424T013608Z
UID:2031-1717239600-1717250400@sharontennisclub.org
SUMMARY:Women's Social
DESCRIPTION:
URL:https://sharontennisclub.org/calendar/womens-social/
END:VEVENT
END:VCALENDAR