BEGIN:VCALENDAR
VERSION:2.0
PRODID:-//Sharon Tennis Club - ECPv6.15.17.1//NONSGML v1.0//EN
CALSCALE:GREGORIAN
METHOD:PUBLISH
X-WR-CALNAME:Sharon Tennis Club
X-ORIGINAL-URL:https://sharontennisclub.org
X-WR-CALDESC:Events for Sharon Tennis Club
REFRESH-INTERVAL;VALUE=DURATION:PT1H
X-Robots-Tag:noindex
X-PUBLISHED-TTL:PT1H
BEGIN:VTIMEZONE
TZID:America/New_York
BEGIN:DAYLIGHT
TZOFFSETFROM:-0500
TZOFFSETTO:-0400
TZNAME:EDT
DTSTART:20230312T070000
END:DAYLIGHT
BEGIN:STANDARD
TZOFFSETFROM:-0400
TZOFFSETTO:-0500
TZNAME:EST
DTSTART:20231105T060000
END:STANDARD
BEGIN:DAYLIGHT
TZOFFSETFROM:-0500
TZOFFSETTO:-0400
TZNAME:EDT
DTSTART:20240310T070000
END:DAYLIGHT
BEGIN:STANDARD
TZOFFSETFROM:-0400
TZOFFSETTO:-0500
TZNAME:EST
DTSTART:20241103T060000
END:STANDARD
BEGIN:DAYLIGHT
TZOFFSETFROM:-0500
TZOFFSETTO:-0400
TZNAME:EDT
DTSTART:20250309T070000
END:DAYLIGHT
BEGIN:STANDARD
TZOFFSETFROM:-0400
TZOFFSETTO:-0500
TZNAME:EST
DTSTART:20251102T060000
END:STANDARD
END:VTIMEZONE
BEGIN:VEVENT
DTSTART;TZID=America/New_York:20241006T120000
DTEND;TZID=America/New_York:20241006T150000
DTSTAMP:20260424T124820
CREATED:20240920T171020Z
LAST-MODIFIED:20240929T142150Z
UID:2855-1728216000-1728226800@sharontennisclub.org
SUMMARY:Club BBQ
DESCRIPTION:Join us for the Annual Club BBQ.  Hamburgers\, hot dogs\, and refreshments provided.  Also pot-luck.  Bring a side dish\, salad\, or desert if you wish.
URL:https://sharontennisclub.org/calendar/club-bbq/
END:VEVENT
END:VCALENDAR